BEGIN:VCALENDAR
VERSION:2.0
PRODID:-//MICA: Mothers Institute for Collaboration and Art - ECPv6.15.20//NONSGML v1.0//EN
CALSCALE:GREGORIAN
METHOD:PUBLISH
X-WR-CALNAME:MICA: Mothers Institute for Collaboration and Art
X-ORIGINAL-URL:https://experiencemica.org
X-WR-CALDESC:Events for MICA: Mothers Institute for Collaboration and Art
REFRESH-INTERVAL;VALUE=DURATION:PT1H
X-Robots-Tag:noindex
X-PUBLISHED-TTL:PT1H
BEGIN:VTIMEZONE
TZID:America/New_York
BEGIN:DAYLIGHT
TZOFFSETFROM:-0500
TZOFFSETTO:-0400
TZNAME:EDT
DTSTART:20230312T070000
END:DAYLIGHT
BEGIN:STANDARD
TZOFFSETFROM:-0400
TZOFFSETTO:-0500
TZNAME:EST
DTSTART:20231105T060000
END:STANDARD
BEGIN:DAYLIGHT
TZOFFSETFROM:-0500
TZOFFSETTO:-0400
TZNAME:EDT
DTSTART:20240310T070000
END:DAYLIGHT
BEGIN:STANDARD
TZOFFSETFROM:-0400
TZOFFSETTO:-0500
TZNAME:EST
DTSTART:20241103T060000
END:STANDARD
BEGIN:DAYLIGHT
TZOFFSETFROM:-0500
TZOFFSETTO:-0400
TZNAME:EDT
DTSTART:20250309T070000
END:DAYLIGHT
BEGIN:STANDARD
TZOFFSETFROM:-0400
TZOFFSETTO:-0500
TZNAME:EST
DTSTART:20251102T060000
END:STANDARD
END:VTIMEZONE
BEGIN:VEVENT
DTSTART;TZID=America/New_York:20240531T183000
DTEND;TZID=America/New_York:20240531T183000
DTSTAMP:20260420T000158
CREATED:20240315T052407Z
LAST-MODIFIED:20240513T184651Z
UID:252340-1717180200-1717180200@experiencemica.org
SUMMARY:MICAfest: The M/otherlode Closing Celebration
DESCRIPTION:MICAfest: The M/otherlode Closing Celebration\nMICAfest: The M/otherlode Closing Celebration \nJoin us for an unforgettable night of art\, connection\, and celebration as we bid farewell to MICAfest 2024! \nExperience the magic one last time: \n\nLast Chance to View Art: Explore the captivating visual art exhibitions before they’re gone.\nMoving Poetry: Immerse yourself in powerful poetry readings by Jen Jabaily-Blackburn and Toni Rose.\nInteractive Conversation: Engage in a thought-provoking discussion about motherhood\, art\, and collaboration.\nLive Music:Toe-tapping beats to the soulful sounds of Christa Joy and the Honeybees.\n\nThis is your final opportunity to celebrate the diverse voices of m/other artists and the transformative power of art. Don’t miss out! \nSchedule: \n6:30 PM: Doors Open for Art Showcase \n7:00 PM – Performances Begin \nCome celebrate the end of a fantastic festival\, connect with the vibrant MICAfest community\, and support the important work of m/other artists! \nArtists in Conversations: \nVanessa Adel\, Haile Eshe Cole\, and more! \n			\n			\n				\n				\n				\n				\n			\n				\n				\n				\n				\n				\n				\n				\n				\n				\n				\n				\n			\n			\n				\n				\n				\n				\n				\n				\n				\n				\n				\n				Toni Rose (aka Toni ‘Blue’ Rose) \nExperience raw and powerful poetry from an artist and activist who paints heart-wrenching truths with words. Toni Rose shares unflinching poems about the challenges of raising a black man as a single mother\, the fight for survival\, and the power of healing through art. \n			\n			\n				\n				\n				\n				\n			\n				\n				\n				\n				\n				\n				\n				\n				\n				\n				\n				\n			\n			\n				\n				\n				\n				\n				\n				\n				\n				\n				\n				Jen Jabaily-Blackburn: \nPrepare for a journey of transformation and myth as Jen Jabaily-Blackburn shares poems from her forthcoming collection\, “Girl in a Bear Suit.” The collection explores motherhood through personal reflections and reinterpretations of the Callisto myth. \n			\n			\n				\n				\n				\n				\n			\n				\n				\n				\n				\n				\n				\n				\n				\n				\n				\n				\n			\n			\n				\n				\n				\n				\n				\n				\n				\n				\n				\n				Christa Joy \nImmerse yourself in the vibrant Americana sounds of Christa Joy and the Honeybees. Their music blends classic honky-tonk with soulful ballads\, creating a captivating soundtrack for this celebratory evening. Get ready to tap your toes and feel the energy as you experience their critically acclaimed album “Get On\, Heart!” and a sneak peek at their upcoming work. \n			\n			\n				\n				\n				\n				\n			\n				\n				\n				\n				\n				\n				\n				\n				\n				\n				\n				Questions about tickets?\nFor ticketing support\, please email us at hello@experiencemica.org.\n			\n				Tickets Now Available on Eventbrite\n			\n				\n				\n				\n				\n				MICAfest is a truly unique celebration. If you know of anywhere else doing a month-long festival supporting\, spotlighting\, and bringing into the conversation 80 m/other artists\, please let us know! Seriously. \nM/others Institute for Collaboration and Art (MICA) is a mother-led\, Western Massachusetts organization strictly dedicated to supporting m/other artists. Your contributions as a paying ticket member are a ticket to saying\, yes\, I support artist m/others. As a small organization\, we appreciate the support of people like you. We thank you for making a tax-deductible donation to MICA to support m/other artists.
URL:https://experiencemica.org/event/micafest-the-m-otherlode/
LOCATION:Northampton Center for the Arts\, 33 Hawley Street\, Northampton\, MA\, 01060\, United States
CATEGORIES:Art Bash,Art Reception,Artist Celebration,Artist Tak,Celebration,Cocktail Party,Exhibitions,Fundraiser,Gala,Music,Northampton Center for the Arts,Single Ticketed Event,Visual Art Exhibit
ATTACH;FMTTYPE=image/jpeg:https://experiencemica.org/wp-content/uploads/CS-The-Motherlode-Gala-feature-update-1.jpg
ORGANIZER;CN="M/others Institute for Collaboration and Art (MICA)":MAILTO:hello@experiencemica.org
END:VEVENT
BEGIN:VEVENT
DTSTART;TZID=America/New_York:20240523T190000
DTEND;TZID=America/New_York:20240523T213000
DTSTAMP:20260420T000158
CREATED:20240315T052406Z
LAST-MODIFIED:20240519T213725Z
UID:252338-1716490800-1716499800@experiencemica.org
SUMMARY:Perfect Imperfections Behind the Facade: an Evening at the Theatre
DESCRIPTION:My Mother Had Two Faces: Reflections on Beauty\, Aging\, and Acceptance.\nA one-woman show by Karin Trachtenberg\nMy Mother Had Two Faces: Reflections on Beauty\, Aging and Acceptance is an autobiographical one-woman dramatic comedy that dares to expose what lies beneath the mask of the perfect mother. Discovering her mother’s diaries after her passing\, Karin\, the heroine\, begins to examine the history of their complicated relationship from the gritty\, urban streets of New York to her Swiss mother’s manicured orderliness. \nThe story follows her mother’s exodus from her homeland to pursue stardom\, and how her fixation with beauty and outward appearances influenced Karin’s sense of worth. Engaged in dialogue with her mirrored reflection\, Karin wrestles with her own inner demons. What does the mirror uncover when we strip away the makeup? \nA humorous and moving journey of self-reflection\, this show is sure to resonate with anyone struggling with a conflicted parental relationship. Presented in a pseudo-fairytale style\, utilizing multimedia and theatrical masks\, My Mother Had Two Faces tips the Disney delusion on its head revealing the enchanting as well as the underbelly. Karin explains “In embodying my mother\, an image of the Good Mother/Bad Mother emerged. Introducing theatrical masks is a powerful dramatization of those roles.” \nMy Mother Had Two Faces has toured Los Angeles\, Boston\, and New York to full houses and rave reviews and will be in Northampton on May 23rd and then off to The Edinburgh Fringe this summer. \n			\n			\n				\n				\n				\n				\n			\n				\n				\n				\n				\n				\n				\n				\n				\n				\n				\n				An Evening with Phineas\nA staged reading written by Lyza Fennell \n Directed by Marty Bongfeldt \nCast: Emily P Bloch\, James Tanner Echols\, Adriana Piantedosi\, Steve Pierce  \n  \nPrepare for a hilarious and provocative exploration of love\, marriage\, and desire. Phineas\, the enigmatic marriage counselor\, turns an unhappy couple’s world upside down with unconventional methods and surprising twists. \nDon’t miss this unforgettable evening of theatre\, which will make you laugh\, think\, and perhaps even see yourself reflected in a new light. Perfect Imperfections Behind the Facade celebrates our messy humanity. Reserve your tickets today and immerse yourself in storytelling’s transformative power. \n			\n			\n				\n				\n				\n				\n			\n				\n				\n				\n				\n				\n				\n				\n				\n				\n				\n				\n\n\n\n\n\n\nJoin us for a Q & A discussion after!\n\n\n\n\n\n\n\n			\n				Tickets Now Available on Eventbrite\n			\n				\n				\n				\n				\n				\n\n\n\n\n			\n				\n				\n				\n				\n				Questions about tickets?\nFor ticketing support\, please email us at hello@experiencemica.org.\n			\n				\n				\n				\n				\n				\n\n\n\n\n\n\nThis festival is a truly unique celebration. If you know of anywhere else doing a month-long festival supporting\, spotlighting\, and bringing into the conversation 80 m/other artists\, please let us know! Seriously. \nM/others Institute for Collaboration and Art (MICA) is a mother-led\, Western Massachusetts organization strictly dedicated to supporting m/other artists. Your contributions as a paying ticket member are a ticket to saying\, yes\, I support artist m/others. As a small organization\, we appreciate the support of people like you. We thank you for making a tax-deductible donation to MICA to support m/other artists.
URL:https://experiencemica.org/event/perfect-imperfections-behind-the-facade-an-evening-at-the-theatre/
LOCATION:Northampton Center for the Arts\, 33 Hawley Street\, Northampton\, MA\, 01060\, United States
CATEGORIES:Northampton Center for the Arts,Single Ticketed Event,Staged Reading,Theatre
ATTACH;FMTTYPE=image/jpeg:https://experiencemica.org/wp-content/uploads/M_otherhood-in-Motion-feature-2-1.jpg
ORGANIZER;CN="M/others Institute for Collaboration and Art (MICA)":MAILTO:hello@experiencemica.org
END:VEVENT
BEGIN:VEVENT
DTSTART;TZID=America/New_York:20240511T190000
DTEND;TZID=America/New_York:20240511T213000
DTSTAMP:20260420T000158
CREATED:20240315T052359Z
LAST-MODIFIED:20240503T184944Z
UID:252335-1715454000-1715463000@experiencemica.org
SUMMARY:M/otherhood in Motion: Dance and Theatre
DESCRIPTION:An Evening of Dance\, Theatre\, and Motion\nJoin us at the heart of artistic expression and maternal insight as the Northampton Center for the Arts transforms into a realm of exploration and empowerment. M/otherhood in Motion\, hosted by M/others Institute for Collaboration and Art (MICA)\, presents an unparalleled evening of dance\, theatre\, and performance art. This meticulously curated event shines a spotlight on the intricate dance of m/otherhood\, intertwining the personal and the mythological\, the intimate and the universal. \nM/otherhood in Motion is not just an event; it’s a movement. It is a dynamic showcase that brings to the stage four emotive performances\, each narrating the distinct yet interconnected facets of m/otherhood. With three dance performance pieces and one staged reading\, each act is a unique invitation to look beyond the surface and connect with the deep\, complex tapestry of m/otherhood. These performances challenge\, celebrate\, and illuminate the myriad roles and identities mothers navigate every day. \nWhy M/otherhood Matters\nIn a society that frequently overlooks the artistry of m/othering\, M/otherhood in Motion serves as a vivid reminder of the power\, creativity\, and resilience inherent in m/others and their stories. It’s more than a celebration; it’s a declaration that m/other artists are here\, creating\, performing\, and reshaping the landscape of art and society. \nThis event is your chance to support and uplift the voices of m/other artists\, partake in their stories\, and contribute to a growing community bent on recognizing and valuing m/otherhood’s artistic and societal contributions. \n			\n				\n				\n				\n				\n				The Performances\n			\n			\n				\n				\n				\n				\n			\n				\n				\n				\n				\n				\n				\n				\n				\n				\n				\n				\n			\n			\n				\n				\n				\n				\n				\n				\n				\n				\n				\n				“Belly” – An Intergenerational Tapestry of Black Motherhood\, Haile Eshe Cole\nThis project seeks to tell the stories of Black women’s experiences of reproduction past\, present\, and future. “Belly” is an intergenerational love voyage of Black womanhood/motherhood that transpires through the mediums of word\, song\, and dance. \nIt is also loosely based on ethnographic interviews and research conducted with Black women in the South.Inspired by Ntozake Shange’s “For Colored Girls\,” the work is written for a small\, six-member cast and structured as a three-part choreopoem. \nFor MICAfest\, excerpts from the broader piece will be performed. \n			\n			\n				\n				\n				\n				\n			\n				\n				\n				\n				\n				\n				\n				\n				\n				\n				\n				\n			\n			\n				\n				\n				\n				\n				\n				\n				\n				\n				\n				“Nourish – I’m on Fire” -A Mythological Exploration of a Woman’s Life Cycle\, Jessica Roseman\n“Nourish – I’m on Fire” is a mythological biography about a magical\, extraordinary place\, which\, if described to you\, would sound like fiction. The 30-minute solo dance (excerpt from an evening-length piece) reveals hidden truths about a woman’s cyclical capacity to regenerate\, produce life\, and retire and move to Florida over the course of a lifetime. By resourcing memory and invoking affirmations\, it explores themes of parenting\, ancestry\, privacy\, shame\, and liberation\, as well as perimenopause\, stillbirth\, and Black maternal health. \nThe dance score capitalizes on theatricality by way of singing\, miming\, and asking the audience questions about their viewing experience. Comfortably relatable and\, at times\, humorous\, the piece aims to generate an authentic relationship with the audience by revealing new worlds. \n			\n			\n				\n				\n				\n				\n			\n				\n				\n				\n				\n				\n				\n				\n				\n				\n				\n				\n			\n			\n				\n				\n				\n				\n				\n				\n				\n				\n				\n				“Welcome to Holland!” – Exploring the Unspoken Realities of Motherhood\, Laura Sánchez\nFlamenco dancer\, educator\, and choreographer Laura Sanchez reimagines Emily Kingsley’s poem about parenting a child with a disability to capture the essence of being a mother—a caregiver—waking up to a world transformed by trauma. Flamenco\, poetry\, humor\, film\, and installation all fuse in this performance\, challenging societal narratives around motherhood\, disability\, and ableism while elevating the inherent strength of caregivers. \n			\n			\n				\n				\n				\n				\n			\n				\n				\n				\n				\n				\n				\n				\n				\n				\n				\n				\n			\n			\n				\n				\n				\n				\n				\n				\n				\n				\n				\n				“Miss Treated” – Kelly Silliman\nMiss Treated\, a solo dance theatre piece created in collaboration with Melissa Edwards\, explores gender\, power\, and medical mistreatment. It shines a light on the all-too-common experience of being misheard\, misdiagnosed\, and mistreated by professionals who are supposed to help.\n  \n			\n			\n				\n				\n				\n				\n			\n				\n				\n				\n				\n				\n				\n				\n				\n				\n				\n				Questions about tickets?\nFor ticketing support\, please email us at hello@experiencemica.org.\n			\n				Tickets Now Available on Eventbrite\n			\n				\n				\n				\n				\n				MICAfest is a truly unique celebration. If you know of anywhere else doing a month-long festival supporting\, spotlighting\, and bringing into the conversation 80 m/other artists\, please let us know! Seriously. \nM/others Institute for Collaboration and Art (MICA) is a mother-led\, Western Massachusetts organization strictly dedicated to supporting m/other artists. Your contributions as a paying ticket member are a ticket to saying\, yes\, I support artist m/others. As a small organization\, we appreciate the support of people like you. We thank you for making a tax-deductible donation to MICA to support m/other artists. \nVIP Tickets and Monthly passes are also available.
URL:https://experiencemica.org/event/m-otherhood-in-motion-dance-and-theatre/
LOCATION:Northampton Center for the Arts\, 33 Hawley Street\, Northampton\, MA\, 01060\, United States
CATEGORIES:Dance,Performance Art,Plays,Single Ticketed Event
ATTACH;FMTTYPE=image/jpeg:https://experiencemica.org/wp-content/uploads/M_otherhood-in-Motion-feature-3.jpg
ORGANIZER;CN="M/others Institute for Collaboration and Art (MICA)":MAILTO:hello@experiencemica.org
END:VEVENT
BEGIN:VEVENT
DTSTART;TZID=America/New_York:20240504T190000
DTEND;TZID=America/New_York:20240504T213000
DTSTAMP:20260420T000158
CREATED:20240315T052358Z
LAST-MODIFIED:20240503T184705Z
UID:252332-1714849200-1714858200@experiencemica.org
SUMMARY:Verses & Vibes: Poetry and Music Night
DESCRIPTION:From Pride to Poetry. Verses & Vibes: Poetry and Music Night. A Celebration of Artist Mothers.\nContinue the energy of Pride Day with MICAfest’s Verses & Vibes: Poetry Night \nPrepare to immerse yourselves in an evening that transcends mere artistic expression. On May 4th\, 2024\, M/others Institute for Collaboration and Art (MICA)  is honored to host this intimate gathering in the Experimental Performance Arena at NEVAmuseum at Anchor House of Artists. “Verses & Vibes” spotlights the potent synergy of poetry interwoven with music and showcases the vibrant narratives of artist m/others. \nFeatured Poets\nMaggie “Sasha” Russell-Ciardi* Journey Through Liberation: Embark on a profound voyage with haikus that paint a portrait of self-liberation and the sacred path of parenting. Experience a captivating story of spiritual quests co-created with the innocence of a child’s imagination. \nJasmine Errico* The Power of Confession: Step into the light of confessional poetry\, where themes of motherhood\, generational trauma\, and healing are explored with unflinching honesty. \nMary Warren Foulk* Redefining Identity with Erasure: Witness the revolutionary act of erasure\, where personal narratives are ingeniously redefined\, championing resilience and empowerment. \nKC Trommer* Celebrating Artistic Lineages: Engage with poems that honor the lives and legacies of female-identifying artists\, connecting us to the enduring impact of women in art. \nBe Part of This Empowering Movement\n“Verses & Vibes” stands as a testament to the resilience found in vulnerability\, the boundless creativity kindled through the experience of m/otherhood\, and the powerful community forged amidst artistic endeavors. By being part of this evening\, you’re not just witnessing art; you’re supporting a movement that underscores the critical role of artist m/others in shaping our cultural and emotional landscapes. \nJoin Us for our Opening Night for MICAfest 2024!\nExperience an unforgettable evening of artistic expression and connection. This is a night where powerful words\, moving melodies\, and the unique perspectives of artist mothers come together. Immerse yourself in the transformative power of art and be part of a community that celebrates creativity and resilience. Join us on May 4th\, 2024\, for the vibrant and inspiring ‘Verses & Vibes: Poetry Night. \n			\n			\n				\n				\n				\n				\n			\n				\n				\n				\n				\n				\n				\n				\n				\n				\n				\n				On View in the Passways Gallery\, Bumpus Gallery\, and the Experimental Performance Arena.\n			\n			\n				\n				\n				\n				\n			\n				\n				\n				\n				\n				\n				\n				\n				\n				\n				\n				\n			\n			\n				\n				\n				\n				\n				\n				\n				\n				\n				\n				Visual artists exhibiting at Anchor House of Artists\nLisa Andrews | Laura Dickstein Thompson | Jasmine Errico | Paulina Fuenzalida-Guzman | Reshma Gorde | Ruby Henry | Juli Kirk | Amy Kotel | Tony(a) Lemos | Gena Mavuli | Laura Moorehead | Amy Nolan | Elizabeth Menges | Terre Parker | Ellen Shattuck Pierce | Mollie Thonneson | Mary Warren Foulk | Ellen Wetmore | Sam Wilde | \nImage: Lisa Andrews\, A Mother’s Tears\, 24” x 36”\, Acrylic on Canvas. \n			\n			\n				\n				\n				\n				\n			\n				\n				\n				\n				\n				\n				\n				\n				\n				\n				\n				Questions about tickets?\nFor ticketing support\, please email us at hello@experiencemica.org.\n			\n				Tickets Now Available on Eventbrite\n			\n				\n				\n				\n				\n				MICAfest is a truly unique celebration. If you know of anywhere else doing a month-long festival supporting\, spotlighting\, and bringing into the conversation 80 m/other artists\, please let us know! Seriously. \nM/others Institute for Collaboration and Art (MICA) is a mother-led\, Western Massachusetts organization strictly dedicated to supporting m/other artists. Your contributions as a paying ticket member are a ticket to saying\, yes\, I support artist m/others. As a small organization\, we appreciate the support of people like you. We thank you for making a tax-deductible donation to MICA to support m/other artists. \nVIP Tickets and Monthly passes are also available.
URL:https://experiencemica.org/event/verses-vibes-poetry-and-music-night/
LOCATION:Anchor House of Artists\, 518 Pleasant Street\, Northampton\, MA\, 01060\, United States
CATEGORIES:Intimate Setting,Literary Events,Local Artists,Music,Music & Poetry,Poetry,Single Ticketed Event,Spoken Word,Visual Art Exhibit
ATTACH;FMTTYPE=image/jpeg:https://experiencemica.org/wp-content/uploads/Verses-and-Vibes-feature-update-430.jpg
ORGANIZER;CN="M/others Institute for Collaboration and Art (MICA)":MAILTO:hello@experiencemica.org
END:VEVENT
END:VCALENDAR